Package: derfinderData Version: 2.16.0 Command: /home/biocbuild/bbs-3.16-bioc/R/bin/R CMD build --keep-empty-dirs --no-resave-data derfinderData StartedAt: 2023-04-11 10:30:49 -0400 (Tue, 11 Apr 2023) EndedAt: 2023-04-11 10:30:56 -0400 (Tue, 11 Apr 2023) EllapsedTime: 7.0 seconds RetCode: 0 Status: OK PackageFile: derfinderData_2.16.0.tar.gz PackageFileSize: 25.55 MiB