Package: beta7 Version: 1.36.0 Command: /home/biocbuild/bbs-3.16-bioc/R/bin/R CMD check --install=check:beta7.install-out.txt --library=/home/biocbuild/bbs-3.16-bioc/R/site-library --timings beta7_1.36.0.tar.gz StartedAt: 2023-04-11 11:28:27 -0400 (Tue, 11 Apr 2023) EndedAt: 2023-04-11 11:28:40 -0400 (Tue, 11 Apr 2023) EllapsedTime: 13.3 seconds RetCode: 0 Status: WARNINGS CheckDir: beta7.Rcheck Warnings: 2