Package: QUBICdata Version: 1.26.0 Command: /home/biocbuild/bbs-3.16-bioc/R/bin/R CMD build --keep-empty-dirs --no-resave-data QUBICdata StartedAt: 2023-04-11 10:49:24 -0400 (Tue, 11 Apr 2023) EndedAt: 2023-04-11 10:49:28 -0400 (Tue, 11 Apr 2023) EllapsedTime: 4.3 seconds RetCode: 0 Status: OK PackageFile: QUBICdata_1.26.0.tar.gz PackageFileSize: 9.844 MiB