Package: PtH2O2lipids Version: 1.24.0 Command: /home/biocbuild/bbs-3.16-bioc/R/bin/R CMD check --install=check:PtH2O2lipids.install-out.txt --library=/home/biocbuild/bbs-3.16-bioc/R/site-library --timings PtH2O2lipids_1.24.0.tar.gz StartedAt: 2023-04-11 12:10:02 -0400 (Tue, 11 Apr 2023) EndedAt: 2023-04-11 12:13:42 -0400 (Tue, 11 Apr 2023) EllapsedTime: 219.7 seconds RetCode: 0 Status: WARNINGS CheckDir: PtH2O2lipids.Rcheck Warnings: 2