Package: FieldEffectCrc Version: 1.8.0 Command: /home/biocbuild/bbs-3.16-bioc/R/bin/R CMD INSTALL FieldEffectCrc StartedAt: 2023-04-11 10:15:35 -0400 (Tue, 11 Apr 2023) EndedAt: 2023-04-11 10:16:17 -0400 (Tue, 11 Apr 2023) EllapsedTime: 41.9 seconds RetCode: 0 Status: OK