Package: FieldEffectCrc Version: 1.8.0 Command: /home/biocbuild/bbs-3.16-bioc/R/bin/R CMD build --keep-empty-dirs --no-resave-data FieldEffectCrc StartedAt: 2023-04-11 10:33:41 -0400 (Tue, 11 Apr 2023) EndedAt: 2023-04-11 10:36:15 -0400 (Tue, 11 Apr 2023) EllapsedTime: 154.4 seconds RetCode: 0 Status: OK PackageFile: FieldEffectCrc_1.8.0.tar.gz PackageFileSize: 239.5 KiB