Package: DuoClustering2018 Version: 1.16.0 Command: /home/biocbuild/bbs-3.16-bioc/R/bin/R CMD INSTALL DuoClustering2018 StartedAt: 2023-04-11 10:12:21 -0400 (Tue, 11 Apr 2023) EndedAt: 2023-04-11 10:12:54 -0400 (Tue, 11 Apr 2023) EllapsedTime: 32.7 seconds RetCode: 0 Status: OK