Package: DropletTestFiles Version: 1.8.0 Command: /home/biocbuild/bbs-3.16-bioc/R/bin/R CMD build --keep-empty-dirs --no-resave-data DropletTestFiles StartedAt: 2023-04-11 10:31:43 -0400 (Tue, 11 Apr 2023) EndedAt: 2023-04-11 10:32:16 -0400 (Tue, 11 Apr 2023) EllapsedTime: 32.8 seconds RetCode: 0 Status: OK PackageFile: DropletTestFiles_1.8.0.tar.gz PackageFileSize: 226.5 KiB