Package: synaptome.data Version: 0.99.6 Command: /home/biocbuild/bbs-3.16-bioc/R/bin/R CMD INSTALL synaptome.data StartedAt: 2023-04-12 03:00:13 -0400 (Wed, 12 Apr 2023) EndedAt: 2023-04-12 03:00:39 -0400 (Wed, 12 Apr 2023) EllapsedTime: 26.3 seconds RetCode: 0 Status: OK