Package: synaptome.data Version: 0.99.6 Command: /home/biocbuild/bbs-3.16-bioc/R/bin/R CMD check --install=check:synaptome.data.install-out.txt --library=/home/biocbuild/bbs-3.16-bioc/R/site-library --timings synaptome.data_0.99.6.tar.gz StartedAt: 2023-04-12 03:06:06 -0400 (Wed, 12 Apr 2023) EndedAt: 2023-04-12 03:08:39 -0400 (Wed, 12 Apr 2023) EllapsedTime: 152.8 seconds RetCode: 0 Status: OK CheckDir: synaptome.data.Rcheck Warnings: 0