Package: synaptome.data Version: 0.99.6 Command: /home/biocbuild/bbs-3.16-bioc/R/bin/R CMD build --keep-empty-dirs --no-resave-data synaptome.data StartedAt: 2023-04-12 03:03:08 -0400 (Wed, 12 Apr 2023) EndedAt: 2023-04-12 03:03:29 -0400 (Wed, 12 Apr 2023) EllapsedTime: 22.0 seconds RetCode: 0 Status: OK PackageFile: synaptome.data_0.99.6.tar.gz PackageFileSize: 287.7 KiB