Package: EpiTxDb.Mm.mm10 Version: 0.99.6 Command: /home/biocbuild/bbs-3.16-bioc/R/bin/R CMD INSTALL EpiTxDb.Mm.mm10 StartedAt: 2023-04-12 03:00:29 -0400 (Wed, 12 Apr 2023) EndedAt: 2023-04-12 03:01:32 -0400 (Wed, 12 Apr 2023) EllapsedTime: 62.3 seconds RetCode: 0 Status: OK