Package: EpiTxDb.Mm.mm10 Version: 0.99.6 Command: /home/biocbuild/bbs-3.16-bioc/R/bin/R CMD check --install=check:EpiTxDb.Mm.mm10.install-out.txt --library=/home/biocbuild/bbs-3.16-bioc/R/site-library --timings EpiTxDb.Mm.mm10_0.99.6.tar.gz StartedAt: 2023-04-12 03:04:31 -0400 (Wed, 12 Apr 2023) EndedAt: 2023-04-12 03:10:55 -0400 (Wed, 12 Apr 2023) EllapsedTime: 383.7 seconds RetCode: 0 Status: OK CheckDir: EpiTxDb.Mm.mm10.Rcheck Warnings: 0