Package: EpiTxDb.Mm.mm10 Version: 0.99.6 Command: /home/biocbuild/bbs-3.16-bioc/R/bin/R CMD build --keep-empty-dirs --no-resave-data EpiTxDb.Mm.mm10 StartedAt: 2023-04-12 03:01:48 -0400 (Wed, 12 Apr 2023) EndedAt: 2023-04-12 03:03:07 -0400 (Wed, 12 Apr 2023) EllapsedTime: 79.5 seconds RetCode: 0 Status: OK PackageFile: EpiTxDb.Mm.mm10_0.99.6.tar.gz PackageFileSize: 290.2 KiB