Package: OSCA.intro Version: 1.6.0 Command: /home/biocbuild/bbs-3.16-bioc/R/bin/R CMD INSTALL OSCA.intro StartedAt: 2023-04-12 07:00:10 -0400 (Wed, 12 Apr 2023) EndedAt: 2023-04-12 07:00:54 -0400 (Wed, 12 Apr 2023) EllapsedTime: 44.1 seconds RetCode: 0 Status: OK