Package: OSCA.intro Version: 1.6.0 Command: /home/biocbuild/bbs-3.16-bioc/R/bin/R CMD build --keep-empty-dirs --no-resave-data OSCA.intro StartedAt: 2023-04-12 07:01:56 -0400 (Wed, 12 Apr 2023) EndedAt: 2023-04-12 07:14:49 -0400 (Wed, 12 Apr 2023) EllapsedTime: 773.0 seconds RetCode: 0 Status: OK PackageFile: OSCA.intro_1.6.0.tar.gz PackageFileSize: 1.324 MiB