git_url: https://git.bioconductor.org/packages/OSCA.intro git_branch: RELEASE_3_16 git_last_commit: a5c1dec git_last_commit_date: 2022-11-01 10:29:49 -0400 (Tue, 01 Nov 2022) Package: OSCA.intro Version: 1.6.0 Maintainer: Aaron Lun MaintainerEmail: infinite.monkeys.with.keyboards at gmail.com