Package: xmapbridge Version: 1.56.0 Command: rm -rf xmapbridge.buildbin-libdir && mkdir xmapbridge.buildbin-libdir && /Users/biocbuild/BBS/utils/build-universal.sh xmapbridge_1.56.0.tar.gz /Library/Frameworks/R.framework/Resources/bin/R xmapbridge.buildbin-libdir StartedAt: 2023-04-18 20:31:06 -0400 (Tue, 18 Apr 2023) EndedAt: 2023-04-18 20:31:15 -0400 (Tue, 18 Apr 2023) EllapsedTime: 9.6 seconds RetCode: 0 Status: OK PackageFile: xmapbridge_1.56.0.tgz PackageFileSize: 1.75 MiB