Package: wppi
Version: 1.6.0
Command: /Library/Frameworks/R.framework/Resources/bin/R CMD build --keep-empty-dirs --no-resave-data wppi
StartedAt: 2023-04-18 13:00:12 -0400 (Tue, 18 Apr 2023)
EndedAt: 2023-04-18 13:01:28 -0400 (Tue, 18 Apr 2023)
EllapsedTime: 75.2 seconds
RetCode: 0
Status: OK
PackageFile: wppi_1.6.0.tar.gz
PackageFileSize: 646.4 <A href="http://en.wikipedia.org/wiki/KiB" target="_blank">KiB</A>