Package: veloviz Version: 1.4.0 Command: /Library/Frameworks/R.framework/Resources/bin/R CMD build --keep-empty-dirs --no-resave-data veloviz StartedAt: 2023-04-18 12:39:43 -0400 (Tue, 18 Apr 2023) EndedAt: 2023-04-18 12:40:12 -0400 (Tue, 18 Apr 2023) EllapsedTime: 28.7 seconds RetCode: 0 Status: OK PackageFile: veloviz_1.4.0.tar.gz PackageFileSize: 3.546 MiB