Package: vbmp Version: 1.66.0 Command: /Library/Frameworks/R.framework/Resources/bin/R CMD build --keep-empty-dirs --no-resave-data vbmp StartedAt: 2023-04-18 12:37:29 -0400 (Tue, 18 Apr 2023) EndedAt: 2023-04-18 12:38:11 -0400 (Tue, 18 Apr 2023) EllapsedTime: 42.5 seconds RetCode: 0 Status: OK PackageFile: vbmp_1.66.0.tar.gz PackageFileSize: 1.761 MiB