Package: vbmp Version: 1.66.0 Command: rm -rf vbmp.buildbin-libdir && mkdir vbmp.buildbin-libdir && /Users/biocbuild/BBS/utils/build-universal.sh vbmp_1.66.0.tar.gz /Library/Frameworks/R.framework/Resources/bin/R vbmp.buildbin-libdir StartedAt: 2023-04-18 20:25:05 -0400 (Tue, 18 Apr 2023) EndedAt: 2023-04-18 20:25:11 -0400 (Tue, 18 Apr 2023) EllapsedTime: 6.6 seconds RetCode: 0 Status: OK PackageFile: vbmp_1.66.0.tgz PackageFileSize: 1.801 MiB