Package: variancePartition Version: 1.28.9 Command: /Library/Frameworks/R.framework/Resources/bin/R CMD INSTALL variancePartition StartedAt: 2023-04-16 15:30:57 -0400 (Sun, 16 Apr 2023) EndedAt: 2023-04-16 15:31:34 -0400 (Sun, 16 Apr 2023) EllapsedTime: 36.7 seconds RetCode: 0 Status: OK