Package: ttgsea Version: 1.6.3 Command: /Library/Frameworks/R.framework/Resources/bin/R CMD build --keep-empty-dirs --no-resave-data ttgsea StartedAt: 2023-04-18 12:01:09 -0400 (Tue, 18 Apr 2023) EndedAt: 2023-04-18 12:01:40 -0400 (Tue, 18 Apr 2023) EllapsedTime: 31.4 seconds RetCode: 0 Status: OK PackageFile: ttgsea_1.6.3.tar.gz PackageFileSize: 331.2 KiB