Package: ttgsea Version: 1.6.3 Command: rm -rf ttgsea.buildbin-libdir && mkdir ttgsea.buildbin-libdir && /Users/biocbuild/BBS/utils/build-universal.sh ttgsea_1.6.3.tar.gz /Library/Frameworks/R.framework/Resources/bin/R ttgsea.buildbin-libdir StartedAt: 2023-04-18 20:17:54 -0400 (Tue, 18 Apr 2023) EndedAt: 2023-04-18 20:18:15 -0400 (Tue, 18 Apr 2023) EllapsedTime: 21.3 seconds RetCode: 0 Status: OK PackageFile: ttgsea_1.6.3.tgz PackageFileSize: 239.4 KiB