##############################################################################
##############################################################################
###
### Running command:
###
###   /Library/Frameworks/R.framework/Resources/bin/R CMD build --keep-empty-dirs --no-resave-data tscR
###
##############################################################################
##############################################################################


* checking for file ‘tscR/DESCRIPTION’ ... OK
* preparing ‘tscR’:
* checking DESCRIPTION meta-information ... OK
* cleaning src
* installing the package to build vignettes
      -----------------------------------
ERROR: dependency ‘kmlShape’ is not available for package ‘tscR’
* removing ‘/private/tmp/RtmpZ9SBEK/Rinst125117f09535b/tscR’
      -----------------------------------
ERROR: package installation failed