Package: traseR Version: 1.28.0 Command: rm -rf traseR.buildbin-libdir && mkdir traseR.buildbin-libdir && /Users/biocbuild/BBS/utils/build-universal.sh traseR_1.28.0.tar.gz /Library/Frameworks/R.framework/Resources/bin/R traseR.buildbin-libdir StartedAt: 2023-04-18 20:14:05 -0400 (Tue, 18 Apr 2023) EndedAt: 2023-04-18 20:15:14 -0400 (Tue, 18 Apr 2023) EllapsedTime: 68.8 seconds RetCode: 0 Status: OK PackageFile: traseR_1.28.0.tgz PackageFileSize: 6.29 MiB