Package: transite Version: 1.16.0 Command: rm -rf transite.buildbin-libdir && mkdir transite.buildbin-libdir && /Users/biocbuild/BBS/utils/build-universal.sh transite_1.16.0.tar.gz /Library/Frameworks/R.framework/Resources/bin/R transite.buildbin-libdir StartedAt: 2023-04-18 20:13:08 -0400 (Tue, 18 Apr 2023) EndedAt: 2023-04-18 20:14:05 -0400 (Tue, 18 Apr 2023) EllapsedTime: 57.3 seconds RetCode: 0 Status: OK PackageFile: transite_1.16.0.tgz PackageFileSize: 1.014 MiB