Package: terraTCGAdata Version: 1.2.0 Command: rm -rf terraTCGAdata.buildbin-libdir && mkdir terraTCGAdata.buildbin-libdir && /Users/biocbuild/BBS/utils/build-universal.sh terraTCGAdata_1.2.0.tar.gz /Library/Frameworks/R.framework/Resources/bin/R terraTCGAdata.buildbin-libdir StartedAt: 2023-04-18 20:06:08 -0400 (Tue, 18 Apr 2023) EndedAt: 2023-04-18 20:07:08 -0400 (Tue, 18 Apr 2023) EllapsedTime: 59.2 seconds RetCode: 0 Status: OK PackageFile: terraTCGAdata_1.2.0.tgz PackageFileSize: 270.4 KiB