Package: tRNAdbImport Version: 1.16.0 Command: /Library/Frameworks/R.framework/Resources/bin/R CMD INSTALL tRNAdbImport StartedAt: 2023-04-16 14:41:01 -0400 (Sun, 16 Apr 2023) EndedAt: 2023-04-16 14:41:32 -0400 (Sun, 16 Apr 2023) EllapsedTime: 30.9 seconds RetCode: 0 Status: OK