Package: sscore Version: 1.70.0 Command: /Library/Frameworks/R.framework/Resources/bin/R CMD INSTALL sscore StartedAt: 2023-04-16 14:23:17 -0400 (Sun, 16 Apr 2023) EndedAt: 2023-04-16 14:23:24 -0400 (Sun, 16 Apr 2023) EllapsedTime: 7.7 seconds RetCode: 0 Status: OK