Package: spqn Version: 1.10.0 Command: /Library/Frameworks/R.framework/Resources/bin/R CMD INSTALL spqn StartedAt: 2023-04-16 14:50:46 -0400 (Sun, 16 Apr 2023) EndedAt: 2023-04-16 14:51:24 -0400 (Sun, 16 Apr 2023) EllapsedTime: 37.8 seconds RetCode: 0 Status: OK