Package: splots Version: 1.64.0 Command: /Library/Frameworks/R.framework/Resources/bin/R CMD build --keep-empty-dirs --no-resave-data splots StartedAt: 2023-04-18 09:06:49 -0400 (Tue, 18 Apr 2023) EndedAt: 2023-04-18 09:08:47 -0400 (Tue, 18 Apr 2023) EllapsedTime: 117.8 seconds RetCode: 0 Status: OK PackageFile: splots_1.64.0.tar.gz PackageFileSize: 375.9 KiB