Package: slalom Version: 1.20.2 Command: rm -rf slalom.buildbin-libdir && mkdir slalom.buildbin-libdir && /Users/biocbuild/BBS/utils/build-universal.sh slalom_1.20.2.tar.gz /Library/Frameworks/R.framework/Resources/bin/R slalom.buildbin-libdir StartedAt: 2023-04-18 19:42:14 -0400 (Tue, 18 Apr 2023) EndedAt: 2023-04-18 19:44:29 -0400 (Tue, 18 Apr 2023) EllapsedTime: 135.3 seconds RetCode: 0 Status: OK PackageFile: slalom_1.20.2.tgz PackageFileSize: 18.26 MiB