Package: sincell Version: 1.30.0 Command: /Library/Frameworks/R.framework/Resources/bin/R CMD INSTALL sincell StartedAt: 2023-04-16 15:45:38 -0400 (Sun, 16 Apr 2023) EndedAt: 2023-04-16 15:46:22 -0400 (Sun, 16 Apr 2023) EllapsedTime: 43.8 seconds RetCode: 0 Status: OK