Package: simplifyEnrichment Version: 1.8.0 Command: /Library/Frameworks/R.framework/Resources/bin/R CMD INSTALL simplifyEnrichment StartedAt: 2023-04-16 15:40:03 -0400 (Sun, 16 Apr 2023) EndedAt: 2023-04-16 15:40:42 -0400 (Sun, 16 Apr 2023) EllapsedTime: 38.2 seconds RetCode: 0 Status: OK