Package: simplifyEnrichment Version: 1.8.0 Command: /Library/Frameworks/R.framework/Resources/bin/R CMD build --keep-empty-dirs --no-resave-data simplifyEnrichment StartedAt: 2023-04-18 07:45:17 -0400 (Tue, 18 Apr 2023) EndedAt: 2023-04-18 08:03:37 -0400 (Tue, 18 Apr 2023) EllapsedTime: 1100.7 seconds RetCode: 0 Status: OK PackageFile: simplifyEnrichment_1.8.0.tar.gz PackageFileSize: 6.314 MiB