Package: sevenC
Version: 1.18.0
Command: /Library/Frameworks/R.framework/Resources/bin/R CMD build --keep-empty-dirs --no-resave-data sevenC
StartedAt: 2023-04-18 07:17:34 -0400 (Tue, 18 Apr 2023)
EndedAt: 2023-04-18 07:20:05 -0400 (Tue, 18 Apr 2023)
EllapsedTime: 151.0 seconds
RetCode: 0
Status: OK
PackageFile: sevenC_1.18.0.tar.gz
PackageFileSize: 1.914 <A href="http://en.wikipedia.org/wiki/MiB" target="_blank">MiB</A>