Package: sesame Version: 1.16.1 Command: /Library/Frameworks/R.framework/Resources/bin/R CMD INSTALL sesame StartedAt: 2023-04-16 15:27:12 -0400 (Sun, 16 Apr 2023) EndedAt: 2023-04-16 15:28:14 -0400 (Sun, 16 Apr 2023) EllapsedTime: 62.0 seconds RetCode: 0 Status: OK