Package: seqLogo Version: 1.64.0 Command: /Library/Frameworks/R.framework/Resources/bin/R CMD build --keep-empty-dirs --no-resave-data seqLogo StartedAt: 2023-04-18 07:10:01 -0400 (Tue, 18 Apr 2023) EndedAt: 2023-04-18 07:10:11 -0400 (Tue, 18 Apr 2023) EllapsedTime: 10.0 seconds RetCode: 0 Status: OK PackageFile: seqLogo_1.64.0.tar.gz PackageFileSize: 882.2 KiB