Package: seqLogo Version: 1.64.0 Command: rm -rf seqLogo.buildbin-libdir && mkdir seqLogo.buildbin-libdir && /Users/biocbuild/BBS/utils/build-universal.sh seqLogo_1.64.0.tar.gz /Library/Frameworks/R.framework/Resources/bin/R seqLogo.buildbin-libdir StartedAt: 2023-04-18 19:30:51 -0400 (Tue, 18 Apr 2023) EndedAt: 2023-04-18 19:31:01 -0400 (Tue, 18 Apr 2023) EllapsedTime: 9.8 seconds RetCode: 0 Status: OK PackageFile: seqLogo_1.64.0.tgz PackageFileSize: 555.8 KiB