Package: scatterHatch Version: 1.4.0 Command: /Library/Frameworks/R.framework/Resources/bin/R CMD INSTALL scatterHatch StartedAt: 2023-04-16 14:38:15 -0400 (Sun, 16 Apr 2023) EndedAt: 2023-04-16 14:38:28 -0400 (Sun, 16 Apr 2023) EllapsedTime: 13.7 seconds RetCode: 0 Status: OK