Package: scMerge Version: 1.14.0 Command: /Library/Frameworks/R.framework/Resources/bin/R CMD INSTALL scMerge StartedAt: 2023-04-16 15:54:23 -0400 (Sun, 16 Apr 2023) EndedAt: 2023-04-16 15:55:31 -0400 (Sun, 16 Apr 2023) EllapsedTime: 68.8 seconds RetCode: 0 Status: OK