Package: scMerge Version: 1.14.0 Command: /Library/Frameworks/R.framework/Resources/bin/R CMD build --keep-empty-dirs --no-resave-data scMerge StartedAt: 2023-04-18 05:40:57 -0400 (Tue, 18 Apr 2023) EndedAt: 2023-04-18 05:44:03 -0400 (Tue, 18 Apr 2023) EllapsedTime: 185.9 seconds RetCode: 0 Status: OK PackageFile: scMerge_1.14.0.tar.gz PackageFileSize: 2.307 MiB