Package: scMerge Version: 1.14.0 Command: rm -rf scMerge.buildbin-libdir && mkdir scMerge.buildbin-libdir && /Users/biocbuild/BBS/utils/build-universal.sh scMerge_1.14.0.tar.gz /Library/Frameworks/R.framework/Resources/bin/R scMerge.buildbin-libdir StartedAt: 2023-04-18 19:20:06 -0400 (Tue, 18 Apr 2023) EndedAt: 2023-04-18 19:21:39 -0400 (Tue, 18 Apr 2023) EllapsedTime: 92.1 seconds RetCode: 0 Status: OK PackageFile: scMerge_1.14.0.tgz PackageFileSize: 2.375 MiB