git_url: https://git.bioconductor.org/packages/scBubbletree git_branch: RELEASE_3_16 git_last_commit: eef9db9 git_last_commit_date: 2022-11-01 11:27:36 -0400 (Tue, 01 Nov 2022) Package: scBubbletree Version: 1.0.0 Maintainer: Simo Kitanovski MaintainerEmail: simokitanovski at gmail.com