Package: rtracklayer Version: 1.58.0 Command: /Library/Frameworks/R.framework/Resources/bin/R CMD build --keep-empty-dirs --no-resave-data rtracklayer StartedAt: 2023-04-18 02:44:28 -0400 (Tue, 18 Apr 2023) EndedAt: 2023-04-18 02:46:16 -0400 (Tue, 18 Apr 2023) EllapsedTime: 107.9 seconds RetCode: 0 Status: OK PackageFile: rtracklayer_1.58.0.tar.gz PackageFileSize: 3.976 MiB