Package: rnaEditr Version: 1.8.0 Command: rm -rf rnaEditr.buildbin-libdir && mkdir rnaEditr.buildbin-libdir && /Users/biocbuild/BBS/utils/build-universal.sh rnaEditr_1.8.0.tar.gz /Library/Frameworks/R.framework/Resources/bin/R rnaEditr.buildbin-libdir StartedAt: 2023-04-18 18:57:28 -0400 (Tue, 18 Apr 2023) EndedAt: 2023-04-18 18:58:59 -0400 (Tue, 18 Apr 2023) EllapsedTime: 90.4 seconds RetCode: 0 Status: OK PackageFile: rnaEditr_1.8.0.tgz PackageFileSize: 1.022 MiB