Package: regutools Version: 1.10.0 Command: /Library/Frameworks/R.framework/Resources/bin/R CMD INSTALL regutools StartedAt: 2023-04-16 17:20:48 -0400 (Sun, 16 Apr 2023) EndedAt: 2023-04-16 17:22:37 -0400 (Sun, 16 Apr 2023) EllapsedTime: 109.3 seconds RetCode: 0 Status: OK