Package: rebook Version: 1.8.0 Command: /Library/Frameworks/R.framework/Resources/bin/R CMD INSTALL rebook StartedAt: 2023-04-16 14:58:08 -0400 (Sun, 16 Apr 2023) EndedAt: 2023-04-16 14:58:17 -0400 (Sun, 16 Apr 2023) EllapsedTime: 8.7 seconds RetCode: 0 Status: OK